BEGIN:VCALENDAR
VERSION:2.0
PRODID:-//WashU Law - ECPv6.15.20//NONSGML v1.0//EN
CALSCALE:GREGORIAN
METHOD:PUBLISH
X-WR-CALNAME:WashU Law
X-ORIGINAL-URL:https://law.washu.edu
X-WR-CALDESC:Events for WashU Law
REFRESH-INTERVAL;VALUE=DURATION:PT1H
X-Robots-Tag:noindex
X-PUBLISHED-TTL:PT1H
BEGIN:VTIMEZONE
TZID:America/Chicago
BEGIN:DAYLIGHT
TZOFFSETFROM:-0600
TZOFFSETTO:-0500
TZNAME:CDT
DTSTART:20250309T080000
END:DAYLIGHT
BEGIN:STANDARD
TZOFFSETFROM:-0500
TZOFFSETTO:-0600
TZNAME:CST
DTSTART:20251102T070000
END:STANDARD
BEGIN:DAYLIGHT
TZOFFSETFROM:-0600
TZOFFSETTO:-0500
TZNAME:CDT
DTSTART:20260308T080000
END:DAYLIGHT
BEGIN:STANDARD
TZOFFSETFROM:-0500
TZOFFSETTO:-0600
TZNAME:CST
DTSTART:20261101T070000
END:STANDARD
BEGIN:DAYLIGHT
TZOFFSETFROM:-0600
TZOFFSETTO:-0500
TZNAME:CDT
DTSTART:20270314T080000
END:DAYLIGHT
BEGIN:STANDARD
TZOFFSETFROM:-0500
TZOFFSETTO:-0600
TZNAME:CST
DTSTART:20271107T070000
END:STANDARD
END:VTIMEZONE
BEGIN:VEVENT
DTSTART;TZID=America/Chicago:20260226T003000
DTEND;TZID=America/Chicago:20260226T130000
DTSTAMP:20260420T114111
CREATED:20260203T142356Z
LAST-MODIFIED:20260203T142358Z
UID:8516-1772065800-1772110800@law.washu.edu
SUMMARY:In Town Clinic/Externship Information Session - AY 26-27
DESCRIPTION:On Friday\, February 28\, you will have the opportunity to hear each professor speak briefly about their clinic/externship and then former clinic/externship students will share their experiences. This is the only opportunity to receive first-hand\, in-depth information about all the St. Louis Based Clinic/Externship offerings. \n\n\n\nThese clinics and externships include Appellate Clinic; Community Justice and Mediation Clinic; Criminal Justice Clinic; Entrepreneurship Clinic; First Amendment Clinic; Government Lawyering Externship; Immigration Law Clinic; Interdisciplinary Environment Clinic; Judicial Clerkship Externship; Lawyering Practice Externship; Low Income Taxpayer Clinic; Post-Conviction Relief Clinical Practicum; Prosecution Clinic; Veterans Law Clinic and Wrongful Conviction Clinic. Registration will open immediately following the meeting.
URL:https://law.washu.edu/event/in-town-clinic-externship-information-session-ay-26-27/
CATEGORIES:Clinical Education Program,Information Session
END:VEVENT
END:VCALENDAR