BEGIN:VCALENDAR
VERSION:2.0
PRODID:-//WashU Law - ECPv6.15.20//NONSGML v1.0//EN
CALSCALE:GREGORIAN
METHOD:PUBLISH
X-ORIGINAL-URL:https://law.washu.edu
X-WR-CALDESC:Events for WashU Law
REFRESH-INTERVAL;VALUE=DURATION:PT1H
X-Robots-Tag:noindex
X-PUBLISHED-TTL:PT1H
BEGIN:VTIMEZONE
TZID:America/Chicago
BEGIN:DAYLIGHT
TZOFFSETFROM:-0600
TZOFFSETTO:-0500
TZNAME:CDT
DTSTART:20250309T080000
END:DAYLIGHT
BEGIN:STANDARD
TZOFFSETFROM:-0500
TZOFFSETTO:-0600
TZNAME:CST
DTSTART:20251102T070000
END:STANDARD
BEGIN:DAYLIGHT
TZOFFSETFROM:-0600
TZOFFSETTO:-0500
TZNAME:CDT
DTSTART:20260308T080000
END:DAYLIGHT
BEGIN:STANDARD
TZOFFSETFROM:-0500
TZOFFSETTO:-0600
TZNAME:CST
DTSTART:20261101T070000
END:STANDARD
BEGIN:DAYLIGHT
TZOFFSETFROM:-0600
TZOFFSETTO:-0500
TZNAME:CDT
DTSTART:20270314T080000
END:DAYLIGHT
BEGIN:STANDARD
TZOFFSETFROM:-0500
TZOFFSETTO:-0600
TZNAME:CST
DTSTART:20271107T070000
END:STANDARD
END:VTIMEZONE
BEGIN:VEVENT
DTSTART;TZID=America/Chicago:20260112T100000
DTEND;TZID=America/Chicago:20260112T110000
DTSTAMP:20260424T021354
CREATED:20260106T170058Z
LAST-MODIFIED:20260106T171850Z
UID:8090-1768212000-1768215600@law.washu.edu
SUMMARY:Fake Law\, Real Sanctions: Ethical Failures and Consequences of AI-Generated Filings
DESCRIPTION:Drawing on a database of more than 700 documented cases\, this webinar examines how competent attorneys have found themselves subject to sanctions\, bar referrals\, and reputational harm due to AI hallucinations. Oliver Roberts\, Co-Director of AI Collaborative at WashU Law and Damien Charlotin\, an academic\, lawyer\, and creator of the leading AI hallucination case database\, analyzes real-world failures\, non-obvious risk scenarios\, and concrete safeguards lawyers must adopt to comply with professional responsibility rules and avoid becoming the next sanctioned “AI lawyer.”
URL:https://law.washu.edu/event/fake-law-real-sanctions-ethical-failures-and-consequences-of-ai-generated-filings/
LOCATION:Virtual Event
CATEGORIES:Legal Tech
ATTACH;FMTTYPE=image/webp:https://law.washu.edu/wp-content/uploads/2026/01/WashU-Law-Tech-Event-Image-copy.jpg
END:VEVENT
BEGIN:VEVENT
DTSTART;TZID=America/Chicago:20260112T130000
DTEND;TZID=America/Chicago:20260112T140000
DTSTAMP:20260424T021354
CREATED:20260106T170335Z
LAST-MODIFIED:20260108T220720Z
UID:8094-1768222800-1768226400@law.washu.edu
SUMMARY:AI Use in Judicial Decision-Making: A Review of Reported Cases
DESCRIPTION:A review of judicial decisions in which judges used AI for judicial interpretation\, spanning the 11th Circuit\, DC Court of Appeals\, and 6th Circuit\, presented by Oliver Roberts\, Co-Director of AI Collaborative at WashU Law.
URL:https://law.washu.edu/event/ai-use-in-judicial-decision-making-a-review-of-reported-cases/
LOCATION:Virtual Event
CATEGORIES:Legal Tech
ATTACH;FMTTYPE=image/webp:https://law.washu.edu/wp-content/uploads/2026/01/WashU-Law-Tech-Event-Image-copy.jpg
END:VEVENT
BEGIN:VEVENT
DTSTART;TZID=America/Chicago:20260113T120000
DTEND;TZID=America/Chicago:20260113T140000
DTSTAMP:20260424T021354
CREATED:20251211T191148Z
LAST-MODIFIED:20260108T221109Z
UID:7872-1768305600-1768312800@law.washu.edu
SUMMARY:Legal AI Demo Day 2026
DESCRIPTION:Legal AI Demo Day 2026 will showcase newly released and next-generation technologies shaping legal practice in the year ahead. Through concise\, live 7-minute demonstrations\, participants will gain direct exposure to cutting-edge tools for research\, drafting\, litigation\, billing\, contracts\, and related workflows. \n\n\n\nEvent Details:Registration: Free Sign Up (required) \n\n\n\nPresenting Companies:§  SimpleDocs – AI-powered contract review§  Laurel – Automated timekeeping for lawyers§  Casefriend – AI assistant for workers’ compensation and lien defense attorneys§  Givance – Litigation evidence platform with visual timeline generation§  PointOne – Automated timekeeping and billing§  Caseblink – AI platform for immigration professionals§  Saga Legal – Secure AI infrastructure for legal practice§  BriefPoint – AI assistant for drafting discovery responses and pleadings§  Aloi – AI-powered contract drafting platform§  Darrow- AI intelligence connecting plaintiff lawyers with high value cases§  Paxton- legal AI assistant for research\, doc review\, and drafting
URL:https://law.washu.edu/event/legal-ai-demo-day-2026/
LOCATION:Virtual Event
CATEGORIES:Information Session,Legal Tech
ATTACH;FMTTYPE=image/webp:https://law.washu.edu/wp-content/uploads/2026/01/WashU-Law-Tech-Event-Image-copy.jpg
END:VEVENT
BEGIN:VEVENT
DTSTART;TZID=America/Chicago:20260127T110000
DTEND;TZID=America/Chicago:20260127T120000
DTSTAMP:20260424T021354
CREATED:20260106T171451Z
LAST-MODIFIED:20260106T171453Z
UID:8096-1769511600-1769515200@law.washu.edu
SUMMARY:Vibe Coding for Lawyers: Advanced Techniques\, Guardrails\, and Real-World Workflows
DESCRIPTION:A central focus of this session is deployment\, security\, and privacy. Attendees will learn how to run tools locally\, limit data exposure\, implement basic security checks\, and assess risk when deciding whether and how to use vibe-coded tools in practice. Live demonstrations will show how simple prototypes evolve into usable tools with structured inputs\, validation steps\, and guardrails appropriate for legal work. Presented by Oliver Roberts\, Co-Director\, WashU Law AI Collaborative\, and Jamie Tso\, Senior Associate (Funds) at Clifford Chance.
URL:https://law.washu.edu/event/vibe-coding-for-lawyers-advanced-techniques-guardrails-and-real-world-workflows/
LOCATION:Virtual Event
CATEGORIES:Legal Tech
ATTACH;FMTTYPE=image/webp:https://law.washu.edu/wp-content/uploads/2026/01/WashU-Law-Tech-Event-Image-copy.jpg
END:VEVENT
BEGIN:VEVENT
DTSTART;TZID=America/Chicago:20260128T110000
DTEND;TZID=America/Chicago:20260128T120000
DTSTAMP:20260424T021354
CREATED:20260106T171645Z
LAST-MODIFIED:20260106T171647Z
UID:8098-1769598000-1769601600@law.washu.edu
SUMMARY:Litigation and Discovery Involving AI Systems: What Lawyers Need to Know
DESCRIPTION:This CLE examines how courts are treating claims involving AI systems\, including liability theories\, evidentiary challenges\, and emerging standards for admissibility. The program addresses discovery obligations unique to AI\, such as access to training data\, model outputs\, prompts\, logs\, and versioning\, as well as proportionality and confidentiality concerns. Attendees will learn how to preserve\, collect\, and challenge AI-related evidence and how to respond to discovery requests involving opaque or third-party models. The session also covers privilege\, spoliation risk\, and protective orders in AI-heavy cases. Practical guidance will be provided for litigators handling cases where AI is a tool\, a subject\, or both. Presented by Joe Sremack\, Managing Director and Head of Forensic Data Analytics and Technology\, CBIZ Forensic Consulting Group\, LLC.
URL:https://law.washu.edu/event/litigation-and-discovery-involving-ai-systems-what-lawyers-need-to-know/
LOCATION:Virtual Event
CATEGORIES:Legal Tech
ATTACH;FMTTYPE=image/webp:https://law.washu.edu/wp-content/uploads/2026/01/WashU-Law-Tech-Event-Image-copy.jpg
END:VEVENT
END:VCALENDAR