BEGIN:VCALENDAR
VERSION:2.0
PRODID:-//WashU Law - ECPv6.15.20//NONSGML v1.0//EN
CALSCALE:GREGORIAN
METHOD:PUBLISH
X-WR-CALNAME:WashU Law
X-ORIGINAL-URL:https://law.washu.edu
X-WR-CALDESC:Events for WashU Law
REFRESH-INTERVAL;VALUE=DURATION:PT1H
X-Robots-Tag:noindex
X-PUBLISHED-TTL:PT1H
BEGIN:VTIMEZONE
TZID:America/Chicago
BEGIN:DAYLIGHT
TZOFFSETFROM:-0600
TZOFFSETTO:-0500
TZNAME:CDT
DTSTART:20250309T080000
END:DAYLIGHT
BEGIN:STANDARD
TZOFFSETFROM:-0500
TZOFFSETTO:-0600
TZNAME:CST
DTSTART:20251102T070000
END:STANDARD
BEGIN:DAYLIGHT
TZOFFSETFROM:-0600
TZOFFSETTO:-0500
TZNAME:CDT
DTSTART:20260308T080000
END:DAYLIGHT
BEGIN:STANDARD
TZOFFSETFROM:-0500
TZOFFSETTO:-0600
TZNAME:CST
DTSTART:20261101T070000
END:STANDARD
BEGIN:DAYLIGHT
TZOFFSETFROM:-0600
TZOFFSETTO:-0500
TZNAME:CDT
DTSTART:20270314T080000
END:DAYLIGHT
BEGIN:STANDARD
TZOFFSETFROM:-0500
TZOFFSETTO:-0600
TZNAME:CST
DTSTART:20271107T070000
END:STANDARD
END:VTIMEZONE
BEGIN:VEVENT
DTSTART;TZID=America/Chicago:20260402T120000
DTEND;TZID=America/Chicago:20260402T130000
DTSTAMP:20260421T090606
CREATED:20260306T205409Z
LAST-MODIFIED:20260306T205411Z
UID:8956-1775131200-1775134800@law.washu.edu
SUMMARY:FedSoc - Criminal (In) Justice: Have Criminal Justice Reforms Made Our Communities Safer?
DESCRIPTION:Criminal (In) Justice: Have Criminal Justice Reforms Made Our Communities Safer?Speaker: Rafael A. MangualTitle: Senior fellow and head of research for policing and public safety at the Manhattan Institute for Policy Research
URL:https://law.washu.edu/event/fedsoc-criminal-in-justice-have-criminal-justice-reforms-made-our-communities-safer/
LOCATION:Morriss Classroom (A-B Hall\, Room 202)
CATEGORIES:Speakers,Student Event or Meeting
END:VEVENT
BEGIN:VEVENT
DTSTART;TZID=America/Chicago:20260402T120000
DTEND;TZID=America/Chicago:20260402T130000
DTSTAMP:20260421T090606
CREATED:20260327T154116Z
LAST-MODIFIED:20260330T183557Z
UID:9135-1775131200-1775134800@law.washu.edu
SUMMARY:MLSA | Understanding Sudan
DESCRIPTION:An open discussion led by a Sudanese law student for the broader law school community\, exploring the ongoing conflict\, humanitarian crisis\, and injustices in Sudan.
URL:https://law.washu.edu/event/mlsa-understanding-sudan/
LOCATION:Greenfield Classroom (A-B Hall\, Room 320)
CATEGORIES:Student Event or Meeting
END:VEVENT
END:VCALENDAR