BEGIN:VCALENDAR
VERSION:2.0
PRODID:-//WashU Law - ECPv6.15.20//NONSGML v1.0//EN
CALSCALE:GREGORIAN
METHOD:PUBLISH
X-WR-CALNAME:WashU Law
X-ORIGINAL-URL:https://law.washu.edu
X-WR-CALDESC:Events for WashU Law
REFRESH-INTERVAL;VALUE=DURATION:PT1H
X-Robots-Tag:noindex
X-PUBLISHED-TTL:PT1H
BEGIN:VTIMEZONE
TZID:America/Chicago
BEGIN:DAYLIGHT
TZOFFSETFROM:-0600
TZOFFSETTO:-0500
TZNAME:CDT
DTSTART:20240310T080000
END:DAYLIGHT
BEGIN:STANDARD
TZOFFSETFROM:-0500
TZOFFSETTO:-0600
TZNAME:CST
DTSTART:20241103T070000
END:STANDARD
BEGIN:DAYLIGHT
TZOFFSETFROM:-0600
TZOFFSETTO:-0500
TZNAME:CDT
DTSTART:20250309T080000
END:DAYLIGHT
BEGIN:STANDARD
TZOFFSETFROM:-0500
TZOFFSETTO:-0600
TZNAME:CST
DTSTART:20251102T070000
END:STANDARD
BEGIN:DAYLIGHT
TZOFFSETFROM:-0600
TZOFFSETTO:-0500
TZNAME:CDT
DTSTART:20260308T080000
END:DAYLIGHT
BEGIN:STANDARD
TZOFFSETFROM:-0500
TZOFFSETTO:-0600
TZNAME:CST
DTSTART:20261101T070000
END:STANDARD
BEGIN:DAYLIGHT
TZOFFSETFROM:-0600
TZOFFSETTO:-0500
TZNAME:CDT
DTSTART:20270314T080000
END:DAYLIGHT
BEGIN:STANDARD
TZOFFSETFROM:-0500
TZOFFSETTO:-0600
TZNAME:CST
DTSTART:20271107T070000
END:STANDARD
END:VTIMEZONE
BEGIN:VEVENT
DTSTART;TZID=America/Chicago:20260303T120000
DTEND;TZID=America/Chicago:20260303T130000
DTSTAMP:20260419T071402
CREATED:20260212T145630Z
LAST-MODIFIED:20260224T173832Z
UID:8616-1772539200-1772542800@law.washu.edu
SUMMARY:JLS | Purim Cafe
DESCRIPTION:Jewish event celebrating Purim. There will be a Megillah reading and lunch.
URL:https://law.washu.edu/event/jls-purim-cafe/
LOCATION:Cullenbine Classroom (A-B Hall\, Room 305)
CATEGORIES:Public Student Events,Student Event or Meeting
END:VEVENT
BEGIN:VEVENT
DTSTART;TZID=America/Chicago:20260302T120000
DTEND;TZID=America/Chicago:20260302T130000
DTSTAMP:20260419T071402
CREATED:20260204T201327Z
LAST-MODIFIED:20260224T173436Z
UID:8538-1772452800-1772456400@law.washu.edu
SUMMARY:FedSoc | The Donroe Doctrine: Is Donald Trump Promoting Peace or Demanding Domination?
DESCRIPTION:Speaker: Doug Bandow\, Senior Fellow at the Cato Institute
URL:https://law.washu.edu/event/the-donroe-doctrine-is-donald-trump-promoting-peace-or-demanding-domination/
LOCATION:Bryan Cave Moot Courtroom (310)
CATEGORIES:Speakers,Student Event or Meeting
END:VEVENT
BEGIN:VEVENT
DTSTART;TZID=America/Chicago:20260225T120000
DTEND;TZID=America/Chicago:20260225T130000
DTSTAMP:20260419T071402
CREATED:20260212T144216Z
LAST-MODIFIED:20260224T171456Z
UID:8609-1772020800-1772024400@law.washu.edu
SUMMARY:ACS | The Constitutionality of ICE Raids and Immigration Enforcement
DESCRIPTION:The Constitutionality of ICE Raids and Immigration EnforcementOur event will examine the constitutional framework governing immigration enforcement\, focusing on ICE raids and related enforcement practices. We plan to discuss Fourth Amendment\, due process\, and federalism concerns\, as well as the interaction between immigration law and constitutional protections.
URL:https://law.washu.edu/event/acs-the-constitutionality-of-ice-raids-and-immigration-enforcement/
LOCATION:Cullenbine Classroom (A-B Hall\, Room 305)
CATEGORIES:Panels and Discussions,Public Student Events,Student Event or Meeting
END:VEVENT
BEGIN:VEVENT
DTSTART;TZID=America/Chicago:20260223T120000
DTEND;TZID=America/Chicago:20260223T130000
DTSTAMP:20260419T071402
CREATED:20260120T210823Z
LAST-MODIFIED:20260212T145837Z
UID:8316-1771848000-1771851600@law.washu.edu
SUMMARY:WLC - Public Interest Insights Event
DESCRIPTION:WLC wants to ensure members who are interested in public interest are provided with the resources and information necessary for successful navigation of the field.
URL:https://law.washu.edu/event/wlc-public-interest-insights-event/
LOCATION:Susman Classroom (403)
CATEGORIES:Student Event or Meeting
END:VEVENT
BEGIN:VEVENT
DTSTART;TZID=America/Chicago:20260218T120000
DTEND;TZID=America/Chicago:20260218T130000
DTSTAMP:20260419T071402
CREATED:20260212T143737Z
LAST-MODIFIED:20260212T143832Z
UID:8603-1771416000-1771419600@law.washu.edu
SUMMARY:ALA - The Implications of Labor Antitrust for Merger Enforcement
DESCRIPTION:Mark Lemley will be talking about The Implications of Labor Antitrust for Merger Enforcement.
URL:https://law.washu.edu/event/ala-the-implications-of-labor-antitrust-for-merger-enforcement/
LOCATION:Morriss Classroom (A-B Hall\, Room 202)
CATEGORIES:Information Session,Panels and Discussions,Public Student Events,Speakers,Student Event or Meeting
END:VEVENT
BEGIN:VEVENT
DTSTART;TZID=America/Chicago:20260218T120000
DTEND;TZID=America/Chicago:20260218T130000
DTSTAMP:20260419T071402
CREATED:20260120T210615Z
LAST-MODIFIED:20260120T210618Z
UID:8299-1771416000-1771419600@law.washu.edu
SUMMARY:WLC - Legal Areas of Interest Speed Dating
DESCRIPTION:Upperclassmen (2Ls & 3Ls) from different locations will be matched with 1Ls and each other to describe their summer experiences.
URL:https://law.washu.edu/event/wlc-legal-areas-of-interest-speed-dating/
LOCATION:Susman Classroom (403)
CATEGORIES:Student Event or Meeting
END:VEVENT
BEGIN:VEVENT
DTSTART;TZID=America/Chicago:20260217T170000
DTEND;TZID=America/Chicago:20260217T200000
DTSTAMP:20260419T071402
CREATED:20260114T223604Z
LAST-MODIFIED:20260216T142512Z
UID:8278-1771347600-1771358400@law.washu.edu
SUMMARY:BLSA x ABS x NPHC Pre-Law Panel Discussion
DESCRIPTION:Join us for a conversation with legal professionals from various practice areas as they describe their legal journeys. Each panelist is a member of the National Pan-Hellenic Council\, otherwise known as the Divine 9. We will be hosting this event alongside the Association of Black Students and the National Pan-Hellenic Council at WashU. \n\n\n\n\nKimberly Turner – Attorney\, Advocate\, Realtor\, and Public Speaker\n\n\n\nKimberly Norwood – Henry H. Oberschelp Professor of Law\, WashU Law; Partner\, KJN Equity Consultants\, LLC\n\n\n\nJoshua Lubatkin – Assistant Prosecuting Attorney\, St. Louis County Prosecuting Attorney’s Office\n\n\n\nJerryl Christmas – Attorney\, Christmas & Associates \n\n\n\n\nWe will be hosting this event alongside the Association of Black Students and the National Pan-Hellenic Council at WashU.
URL:https://law.washu.edu/event/blsa-x-abs-x-nphc-pre-law-panel-discussion/
LOCATION:Bryan Cave Moot Courtroom (310)
CATEGORIES:Panels and Discussions,Public Student Events,Speakers,Student Event or Meeting
END:VEVENT
BEGIN:VEVENT
DTSTART;TZID=America/Chicago:20260212T150000
DTEND;TZID=America/Chicago:20260212T170000
DTSTAMP:20260419T071402
CREATED:20260120T174807Z
LAST-MODIFIED:20260120T174809Z
UID:8295-1770908400-1770915600@law.washu.edu
SUMMARY:FGLS - Law School Blueprint
DESCRIPTION:FGLS and BLSA are co-hosting an event with Phi Delta Phi\, one of the undergraduate pre-law organizations on campus. We are hosting this event to provide the undergraduate students with knowledge on the broad strokes of law school: the academic\, career\, social\, and financial aspects. The event will be in a Q/A style panel followed by a mixer.
URL:https://law.washu.edu/event/fgls-law-school-blueprint/
LOCATION:Morriss Classroom (A-B Hall\, Room 202)
CATEGORIES:Information Session,Student Event or Meeting
END:VEVENT
BEGIN:VEVENT
DTSTART;TZID=America/Chicago:20260203T120000
DTEND;TZID=America/Chicago:20260203T130000
DTSTAMP:20260419T071402
CREATED:20260130T153247Z
LAST-MODIFIED:20260130T153249Z
UID:8486-1770120000-1770123600@law.washu.edu
SUMMARY:PSAB - Local Government Panel
DESCRIPTION:PSAB will host an event discussing career possibilities in state and local governments. Speakers will include Laura Bannish of the career center\, students who have worked in local governments\, and potentially former governor Jay Nixon.
URL:https://law.washu.edu/event/psab-local-government-panel-2/
LOCATION:Susman Classroom (403)
CATEGORIES:Receptions/Networking,Speakers,Student Event or Meeting
END:VEVENT
BEGIN:VEVENT
DTSTART;TZID=America/Chicago:20260203T120000
DTEND;TZID=America/Chicago:20260203T130000
DTSTAMP:20260419T071402
CREATED:20260129T183615Z
LAST-MODIFIED:20260129T183616Z
UID:8479-1770120000-1770123600@law.washu.edu
SUMMARY:PSAB - Local Government Panel
DESCRIPTION:PSAB will host an event discussing career possibilities in state and local governments. Speakers will include Laura Bannish of the career center\, students who have worked in local governments\, and potentially former governor Jay Nixon.
URL:https://law.washu.edu/event/psab-local-government-panel/
LOCATION:Susman Classroom (403)
CATEGORIES:Student Event or Meeting
END:VEVENT
BEGIN:VEVENT
DTSTART;TZID=America/Chicago:20260202T120000
DTEND;TZID=America/Chicago:20260202T130000
DTSTAMP:20260419T071402
CREATED:20260109T172531Z
LAST-MODIFIED:20260109T172533Z
UID:8237-1770033600-1770037200@law.washu.edu
SUMMARY:FedSOC - The Original Meaning of the Property Clause with Judge Holte
DESCRIPTION:The Original Meaning of the Property Clause with Judge Holte of the United States Court of Federal Claims \n\n\n\nDescription:A discussion of the Constitution’s Property Clause grounded in originalist methodology. The conversation will examine historical sources\, early understandings\, and modern implications of the Clause\, followed by practical guidance on federal clerkships and judicial careers from the bench.
URL:https://law.washu.edu/event/fedsoc-the-original-meaning-of-the-property-clause-with-judge-holte/
LOCATION:Peper\, Martin\, Jensen\, Maichel and Hetlage (A-B Hall\, Room 401)
CATEGORIES:Student Event or Meeting
END:VEVENT
BEGIN:VEVENT
DTSTART;TZID=America/Chicago:20260122T120000
DTEND;TZID=America/Chicago:20260122T130000
DTSTAMP:20260419T071402
CREATED:20260120T210956Z
LAST-MODIFIED:20260120T210959Z
UID:8318-1769083200-1769086800@law.washu.edu
SUMMARY:PSAB - Judicial Internship Panel
DESCRIPTION:Judicial internship panel with Professor Alagna and Mahrya Fuller Page
URL:https://law.washu.edu/event/psab-judicial-internship-panel/
LOCATION:Jordan Foundation Classroom (Room 204)
CATEGORIES:Student Event or Meeting
END:VEVENT
BEGIN:VEVENT
DTSTART;TZID=America/Chicago:20260120T120000
DTEND;TZID=America/Chicago:20260120T130000
DTSTAMP:20260419T071402
CREATED:20260109T172352Z
LAST-MODIFIED:20260109T172354Z
UID:8235-1768910400-1768914000@law.washu.edu
SUMMARY:FedSOC - Issue Spotting in the West Wing
DESCRIPTION:What does it mean to practice law when your client is the President of the United States? This talk explores executive-branch lawyering at the highest level—how lawyers manage legal exposure\, anticipate political risk\, and operate inside the White House. Drawing on firsthand experience as Special Assistant to the President and Assistant Staff Secretary during the Trump administration\, Scott Toland offers a rare look into the most demanding form of government practice.
URL:https://law.washu.edu/event/fedsoc-issue-spotting-in-the-west-wing/
LOCATION:Peper\, Martin\, Jensen\, Maichel and Hetlage (A-B Hall\, Room 401)
CATEGORIES:Student Event or Meeting
END:VEVENT
BEGIN:VEVENT
DTSTART;TZID=America/Chicago:20260113T120000
DTEND;TZID=America/Chicago:20260113T140000
DTSTAMP:20260419T071402
CREATED:20260106T212701Z
LAST-MODIFIED:20260106T212703Z
UID:8130-1768305600-1768312800@law.washu.edu
SUMMARY:PSAB - Donate-A-Day
DESCRIPTION:This year\, PSAB is working with WashU Law journals to host a Donate-a-Day Journal Raffle earlier in the semester. This raffle will run from Monday\, January 12\, through Friday\, January 23\, to help supplement our main fundraising efforts during our usual fundraising period in March and April. There will be a table in Crowder Courtyard for the following dates and times\, all from 12:00–2:00 PM: Monday\, January 12Tuesday\, January 13Wednesday\, January 14Thursday\, January 15Friday\, January 16 Tuesday\, January 20Wednesday\, January 21Thursday\, January 22Friday\, January 23
URL:https://law.washu.edu/event/psab-donate-a-day-2/
CATEGORIES:Information Session,Public Student Events,Student Event or Meeting
END:VEVENT
BEGIN:VEVENT
DTSTART;TZID=America/Chicago:20260112T120000
DTEND;TZID=America/Chicago:20260112T140000
DTSTAMP:20260419T071402
CREATED:20260106T211626Z
LAST-MODIFIED:20260106T212439Z
UID:8121-1768219200-1768226400@law.washu.edu
SUMMARY:PSAB - Donate-A-Day
DESCRIPTION:This year\, PSAB is working with WashU Law journals to host a Donate-a-Day Journal Raffle earlier in the semester. This raffle will run from Monday\, January 12\, through Friday\, January 23\, to help supplement our main fundraising efforts during our usual fundraising period in March and April. There will be a table in Crowder Courtyard for the following dates and times\, all from 12:00–2:00 PM: Monday\, January 12Tuesday\, January 13Wednesday\, January 14Thursday\, January 15Friday\, January 16 Tuesday\, January 20Wednesday\, January 21Thursday\, January 22Friday\, January 23
URL:https://law.washu.edu/event/psab-donate-a-day/
LOCATION:Crowder Courtyard (A-B Hall\, Room 301)
CATEGORIES:Information Session,Public Student Events,Student Event or Meeting
END:VEVENT
BEGIN:VEVENT
DTSTART;TZID=America/Chicago:20260112T120000
DTEND;TZID=America/Chicago:20260112T130000
DTSTAMP:20260419T071402
CREATED:20260109T203550Z
LAST-MODIFIED:20260109T203551Z
UID:8245-1768219200-1768222800@law.washu.edu
SUMMARY:FedSOC - Solicitor General Panel
DESCRIPTION:A candid conversation with Iowa’s Solicitor General on building a career in public appellate practice. The discussion will cover what SG offices do\, how lawyers get hired\, the skills that matter most\, and why SG work remains one of the most competitive and influential paths in government lawyering.
URL:https://law.washu.edu/event/fedsoc-solicitor-general-panel/
LOCATION:Peper\, Martin\, Jensen\, Maichel and Hetlage (A-B Hall\, Room 401)
CATEGORIES:Speakers,Student Event or Meeting
END:VEVENT
BEGIN:VEVENT
DTSTART;TZID=America/Chicago:20260112T115500
DTEND;TZID=America/Chicago:20260112T120000
DTSTAMP:20260419T071402
CREATED:20260109T203415Z
LAST-MODIFIED:20260109T203417Z
UID:8243-1768218900-1768219200@law.washu.edu
SUMMARY:JLS - Spring Israel Trek
DESCRIPTION:Information session for a WashU spring break Israel trip: This 8-day Israel trek offers a deep dive into Israel’s geopolitical landscape. From foreign relations\, national security to diplomacy and International law. \n\n\n\nSpeaker is Roey Kruvi with the Jewish Federations of North America and WashU Alum \n\n\n\nJoin classmates in asking the challenging questions. If ever there was a time to explore International Affairs and Law in Middle East – it’s now!
URL:https://law.washu.edu/event/jls-spring-israel-trek/
LOCATION:Cullenbine Classroom (A-B Hall\, Room 305)
CATEGORIES:Speakers,Student Event or Meeting
END:VEVENT
BEGIN:VEVENT
DTSTART;TZID=America/Chicago:20251126T120000
DTEND;TZID=America/Chicago:20251126T125000
DTSTAMP:20260419T071402
CREATED:20250925T133000Z
LAST-MODIFIED:20251106T204315Z
UID:4648-1764158400-1764161400@law.washu.edu
SUMMARY:Weekly SBA General Body Meeting
DESCRIPTION:
URL:https://law.washu.edu/event/weekly-sba-general-body-meeting-2/
LOCATION:Greenfield Classroom (A-B Hall\, Room 320)
CATEGORIES:Student Event or Meeting
END:VEVENT
BEGIN:VEVENT
DTSTART;TZID=America/Chicago:20251119T180000
DTEND;TZID=America/Chicago:20251119T193000
DTSTAMP:20260419T071402
CREATED:20251110T171313Z
LAST-MODIFIED:20251118T154403Z
UID:7199-1763575200-1763580600@law.washu.edu
SUMMARY:NLG - Panel on International Student Workers and Unionization at Washington University
DESCRIPTION:The National Lawyers Guild (NLG) will host a panel discussion addressing the challenges\, importance\, and broader implications of international student worker unionization efforts at Washington University. The panelists are Professor Sheldon Evans; Dr. Ilaria Patania\, who is an Assistant Professor of Archaeology at Washington University and a former international graduate student; Dr. Augusto Medeiros da Rosa\, a Senior Lecturer in Physics at Washington University and a former international graduate student; and a current international graduate student worker.
URL:https://law.washu.edu/event/nlg-panel-on-international-student-workers-and-unionization-at-washington-university/
LOCATION:Bryan Cave Moot Courtroom (310)
CATEGORIES:Panels and Discussions,Public Student Events,Speakers,Student Event or Meeting
END:VEVENT
BEGIN:VEVENT
DTSTART;TZID=America/Chicago:20251119T120000
DTEND;TZID=America/Chicago:20251119T130000
DTSTAMP:20260419T071402
CREATED:20251113T164150Z
LAST-MODIFIED:20251118T193355Z
UID:7259-1763553600-1763557200@law.washu.edu
SUMMARY:First Generation Law Society: Paths and Professors
DESCRIPTION:Join FGLS and WCLS for FGLS’s last event of the semester (and a crowd favorite from last year) as we hear from Professor D’Onfro and Professor Crum on career path timelines! Professor D’Onfro and Professor Crum will be discussing the paths that students should take\, depending on if you have firm\, public interest\, or clerking goals: what steps you should take and when\, what opportunities you should be seeking out\, and so much more. Professor D’Onfro and Professor Crum will lay out clear timelines that 1Ls\, 2Ls\, and 3Ls should keep in mind and aim to follow\, depending on what you aim to do after graduation.
URL:https://law.washu.edu/event/fgls-paths-and-professors/
LOCATION:Zorensky Classroom (AB Hall 306)
CATEGORIES:Information Session,Panels and Discussions,Public Student Events,Student Event or Meeting
ATTACH;FMTTYPE=image/webp:https://law.washu.edu/wp-content/uploads/2025/11/Paths-and-Professors-scaled.webp
END:VEVENT
BEGIN:VEVENT
DTSTART;TZID=America/Chicago:20251119T120000
DTEND;TZID=America/Chicago:20251119T125000
DTSTAMP:20260419T071402
CREATED:20250925T133000Z
LAST-MODIFIED:20251106T204139Z
UID:4647-1763553600-1763556600@law.washu.edu
SUMMARY:Weekly SBA General Body Meeting
DESCRIPTION:
URL:https://law.washu.edu/event/weekly-sba-general-body-meeting-3/
LOCATION:Greenfield Classroom (A-B Hall\, Room 320)
CATEGORIES:Student Event or Meeting
ATTACH;FMTTYPE=image/webp:https://law.washu.edu/wp-content/uploads/2025/11/Student-Organizations_event-header.webp
END:VEVENT
BEGIN:VEVENT
DTSTART;TZID=America/Chicago:20251112T120000
DTEND;TZID=America/Chicago:20251112T125000
DTSTAMP:20260419T071402
CREATED:20250925T133000Z
LAST-MODIFIED:20251106T200923Z
UID:4646-1762948800-1762951800@law.washu.edu
SUMMARY:Weekly SBA General Body Meeting
DESCRIPTION:
URL:https://law.washu.edu/event/weekly-sba-general-body-meeting-4/
LOCATION:Greenfield Classroom (A-B Hall\, Room 320)
CATEGORIES:Student Event or Meeting
ATTACH;FMTTYPE=image/webp:https://law.washu.edu/wp-content/uploads/2025/11/Student-Organizations_event-header.webp
END:VEVENT
BEGIN:VEVENT
DTSTART;TZID=America/Chicago:20251111T120000
DTEND;TZID=America/Chicago:20251111T130000
DTSTAMP:20260419T071402
CREATED:20251105T210208Z
LAST-MODIFIED:20251106T200818Z
UID:7055-1762862400-1762866000@law.washu.edu
SUMMARY:Phi Alpha Delta - Surviving 1L Finals and Keeping Your Sanity
DESCRIPTION:Join Phi Alpha Delta for a discussion about how to succeed during finals week\, tips and tricks for practice exams\, how to use time wisely\, how to not burn out\, and how/when to get help from professors.
URL:https://law.washu.edu/event/phi-alpha-delta-surviving-1l-finals-and-keeping-your-sanity/
LOCATION:Strauss Classroom (A-B Hall\, Room 404)
CATEGORIES:Information Session,Panels and Discussions,Public Student Events,Student Event or Meeting
END:VEVENT
BEGIN:VEVENT
DTSTART;TZID=America/Chicago:20251111T120000
DTEND;TZID=America/Chicago:20251111T130000
DTSTAMP:20260419T071402
CREATED:20251030T200155Z
LAST-MODIFIED:20251106T200707Z
UID:6841-1762862400-1762866000@law.washu.edu
SUMMARY:SALDF - Guest Speaker Joseph DeVault
DESCRIPTION:Join the Student Animal Legal Defense Fund and guest speaker Joseph DeVault from the Missouri Animal Alliance Legislation. Joseph is coming to give a brief overview of MAAL\, animal law in Missouri\, and the legislation he’s working on in the 2026 session.
URL:https://law.washu.edu/event/saldf-guest-speaker-joseph-devault/
LOCATION:Jordan Foundation Classroom (Room 204)
CATEGORIES:Information Session,Public Student Events,Speakers,Student Event or Meeting
ATTACH;FMTTYPE=image/webp:https://law.washu.edu/wp-content/uploads/2025/11/Student-Organizations_event-header.webp
END:VEVENT
BEGIN:VEVENT
DTSTART;TZID=America/Chicago:20251105T120000
DTEND;TZID=America/Chicago:20251105T125000
DTSTAMP:20260419T071402
CREATED:20250925T133000Z
LAST-MODIFIED:20250925T133000Z
UID:4645-1762344000-1762347000@law.washu.edu
SUMMARY:Weekly SBA General Body Meeting
DESCRIPTION:
URL:https://law.washu.edu/event/weekly-sba-general-body-meeting-5/
LOCATION:Greenfield Classroom (A-B Hall\, Room 320)
CATEGORIES:Student Event or Meeting
END:VEVENT
BEGIN:VEVENT
DTSTART;TZID=America/Chicago:20251104T120000
DTEND;TZID=America/Chicago:20251104T130000
DTSTAMP:20260419T071402
CREATED:20250925T132958Z
LAST-MODIFIED:20251031T200027Z
UID:4676-1762257600-1762261200@law.washu.edu
SUMMARY:BLSA and JLS – Navigating Big Law Firms
DESCRIPTION:
URL:https://law.washu.edu/event/jls-and-blsa-navigating-big-law-firms/
LOCATION:Jordan Foundation Classroom (Room 204)
CATEGORIES:Panels and Discussions,Speakers,Student Event or Meeting
END:VEVENT
BEGIN:VEVENT
DTSTART;TZID=America/Chicago:20251029T120000
DTEND;TZID=America/Chicago:20251029T125000
DTSTAMP:20260419T071402
CREATED:20250925T133000Z
LAST-MODIFIED:20250925T133000Z
UID:4644-1761739200-1761742200@law.washu.edu
SUMMARY:Weekly SBA General Body Meeting
DESCRIPTION:
URL:https://law.washu.edu/event/weekly-sba-general-body-meeting-6/
LOCATION:Greenfield Classroom (A-B Hall\, Room 320)
CATEGORIES:Student Event or Meeting
END:VEVENT
BEGIN:VEVENT
DTSTART;TZID=America/Chicago:20251023T120000
DTEND;TZID=America/Chicago:20251023T130000
DTSTAMP:20260419T071402
CREATED:20250925T132958Z
LAST-MODIFIED:20250925T132958Z
UID:4675-1761220800-1761224400@law.washu.edu
SUMMARY:Christian Legal Society – Attorney round table on faith in the law
DESCRIPTION:
URL:https://law.washu.edu/event/christian-legal-society-attorney-round-table-on-faith-in-the-law/
LOCATION:Peper\, Martin\, Jensen\, Maichel and Hetlage (A-B Hall\, Room 401)
CATEGORIES:Information Session,Public Student Events,Student Event or Meeting
END:VEVENT
BEGIN:VEVENT
DTSTART;TZID=America/Chicago:20251022T120000
DTEND;TZID=America/Chicago:20251022T130000
DTSTAMP:20260419T071402
CREATED:20251021T144520Z
LAST-MODIFIED:20251021T144625Z
UID:6122-1761134400-1761138000@law.washu.edu
SUMMARY:Women’s Law Caucus – Young Female Attorneys in STL Private Practice
DESCRIPTION:A professional development panel featuring female attorneys from Husch Blackwell’s St. Louis office\, Madison Rector and Alex Schnarre. They will share their experiences building careers in private practice and offer insights on navigating the early years of the profession. \n\n\n\nSpeakers: \n\n\n\nMadison RectorCommercial Litigation Associate \n\n\n\nAlex SchnarreCommercial Litigation Associate
URL:https://law.washu.edu/event/womens-law-caucus-young-female-attorneys-in-stl-private-practice/
LOCATION:Cullenbine Classroom (A-B Hall\, Room 305)
CATEGORIES:Panels and Discussions,Speakers,Student Event or Meeting
END:VEVENT
BEGIN:VEVENT
DTSTART;TZID=America/Chicago:20251022T120000
DTEND;TZID=America/Chicago:20251022T125000
DTSTAMP:20260419T071402
CREATED:20250925T133000Z
LAST-MODIFIED:20250925T133000Z
UID:4643-1761134400-1761137400@law.washu.edu
SUMMARY:Weekly SBA General Body Meeting
DESCRIPTION:
URL:https://law.washu.edu/event/weekly-sba-general-body-meeting-7/
LOCATION:Greenfield Classroom (A-B Hall\, Room 320)
CATEGORIES:Student Event or Meeting
END:VEVENT
END:VCALENDAR