BEGIN:VCALENDAR
VERSION:2.0
PRODID:-//WashU Law - ECPv6.15.20//NONSGML v1.0//EN
CALSCALE:GREGORIAN
METHOD:PUBLISH
X-WR-CALNAME:WashU Law
X-ORIGINAL-URL:https://law.washu.edu
X-WR-CALDESC:Events for WashU Law
REFRESH-INTERVAL;VALUE=DURATION:PT1H
X-Robots-Tag:noindex
X-PUBLISHED-TTL:PT1H
BEGIN:VTIMEZONE
TZID:America/Chicago
BEGIN:DAYLIGHT
TZOFFSETFROM:-0600
TZOFFSETTO:-0500
TZNAME:CDT
DTSTART:20250309T080000
END:DAYLIGHT
BEGIN:STANDARD
TZOFFSETFROM:-0500
TZOFFSETTO:-0600
TZNAME:CST
DTSTART:20251102T070000
END:STANDARD
BEGIN:DAYLIGHT
TZOFFSETFROM:-0600
TZOFFSETTO:-0500
TZNAME:CDT
DTSTART:20260308T080000
END:DAYLIGHT
BEGIN:STANDARD
TZOFFSETFROM:-0500
TZOFFSETTO:-0600
TZNAME:CST
DTSTART:20261101T070000
END:STANDARD
BEGIN:DAYLIGHT
TZOFFSETFROM:-0600
TZOFFSETTO:-0500
TZNAME:CDT
DTSTART:20270314T080000
END:DAYLIGHT
BEGIN:STANDARD
TZOFFSETFROM:-0500
TZOFFSETTO:-0600
TZNAME:CST
DTSTART:20271107T070000
END:STANDARD
END:VTIMEZONE
BEGIN:VEVENT
DTSTART;VALUE=DATE:20260105
DTEND;VALUE=DATE:20260110
DTSTAMP:20260419T135055
CREATED:20251001T180413Z
LAST-MODIFIED:20251006T170132Z
UID:5687-1767571200-1768003199@law.washu.edu
SUMMARY:January Intersession
DESCRIPTION:
URL:https://law.washu.edu/event/january-intersession/
CATEGORIES:Academic Calendar
END:VEVENT
BEGIN:VEVENT
DTSTART;VALUE=DATE:20260112
DTEND;VALUE=DATE:20260113
DTSTAMP:20260419T135055
CREATED:20251001T180450Z
LAST-MODIFIED:20251006T170132Z
UID:5689-1768176000-1768262399@law.washu.edu
SUMMARY:First day of spring classes
DESCRIPTION:
URL:https://law.washu.edu/event/first-day-of-spring-classes-2/
CATEGORIES:Academic Calendar
END:VEVENT
BEGIN:VEVENT
DTSTART;TZID=America/Chicago:20260118T000000
DTEND;TZID=America/Chicago:20260118T235959
DTSTAMP:20260419T135055
CREATED:20251110T154248Z
LAST-MODIFIED:20260106T171921Z
UID:7175-1768694400-1768780799@law.washu.edu
SUMMARY:Last day to add a spring upper-level course without faculty approval*
DESCRIPTION:* unless otherwise specified in course description\, by professor\, or by Registrar’s Office
URL:https://law.washu.edu/event/last-day-to-add-a-spring-upper-level-course-without-faculty-approval-3/
CATEGORIES:Academic Calendar
END:VEVENT
BEGIN:VEVENT
DTSTART;VALUE=DATE:20260119
DTEND;VALUE=DATE:20260120
DTSTAMP:20260419T135055
CREATED:20251001T180609Z
LAST-MODIFIED:20251006T170131Z
UID:5691-1768780800-1768867199@law.washu.edu
SUMMARY:Dr. Martin Luther King Jr. holiday (no classes)
DESCRIPTION:
URL:https://law.washu.edu/event/dr-martin-luther-king-jr-holiday-no-classes/
CATEGORIES:Academic Calendar
END:VEVENT
BEGIN:VEVENT
DTSTART;VALUE=DATE:20260123
DTEND;VALUE=DATE:20260124
DTSTAMP:20260419T135055
CREATED:20251001T180639Z
LAST-MODIFIED:20251006T170131Z
UID:5692-1769126400-1769212799@law.washu.edu
SUMMARY:All Waitlists Cleared (full term courses)
DESCRIPTION:
URL:https://law.washu.edu/event/all-waitlists-cleared-full-term-courses-3/
CATEGORIES:Academic Calendar
END:VEVENT
END:VCALENDAR